BEGIN:VCALENDAR
VERSION:2.0
PRODID:-//Leadership Everyone - ECPv6.15.18//NONSGML v1.0//EN
CALSCALE:GREGORIAN
METHOD:PUBLISH
X-ORIGINAL-URL:https://leadershipeveryone.org
X-WR-CALDESC:Events for Leadership Everyone
REFRESH-INTERVAL;VALUE=DURATION:PT1H
X-Robots-Tag:noindex
X-PUBLISHED-TTL:PT1H
BEGIN:VTIMEZONE
TZID:America/Indiana/Tell_City
BEGIN:DAYLIGHT
TZOFFSETFROM:-0600
TZOFFSETTO:-0500
TZNAME:CDT
DTSTART:20180311T080000
END:DAYLIGHT
BEGIN:STANDARD
TZOFFSETFROM:-0500
TZOFFSETTO:-0600
TZNAME:CST
DTSTART:20181104T070000
END:STANDARD
BEGIN:DAYLIGHT
TZOFFSETFROM:-0600
TZOFFSETTO:-0500
TZNAME:CDT
DTSTART:20190310T080000
END:DAYLIGHT
BEGIN:STANDARD
TZOFFSETFROM:-0500
TZOFFSETTO:-0600
TZNAME:CST
DTSTART:20191103T070000
END:STANDARD
BEGIN:DAYLIGHT
TZOFFSETFROM:-0600
TZOFFSETTO:-0500
TZNAME:CDT
DTSTART:20200308T080000
END:DAYLIGHT
BEGIN:STANDARD
TZOFFSETFROM:-0500
TZOFFSETTO:-0600
TZNAME:CST
DTSTART:20201101T070000
END:STANDARD
END:VTIMEZONE
BEGIN:VEVENT
DTSTART;VALUE=DATE:20190822
DTEND;VALUE=DATE:20190823
DTSTAMP:20260420T043236
CREATED:20190510T184859Z
LAST-MODIFIED:20190510T184859Z
UID:3311-1566432000-1566518399@leadershipeveryone.org
SUMMARY:Ignite LE
DESCRIPTION:Join us for connection and engagement as we gather alumni and others for another fun Ignite LE event!  Location and time TBA.
URL:https://leadershipeveryone.org/event/ignite-le-3/
LOCATION:IN
CATEGORIES:Leadership Everyone
END:VEVENT
END:VCALENDAR