BEGIN:VCALENDAR
VERSION:2.0
PRODID:-//Leadership Everyone - ECPv6.15.18//NONSGML v1.0//EN
CALSCALE:GREGORIAN
METHOD:PUBLISH
X-WR-CALNAME:Leadership Everyone
X-ORIGINAL-URL:https://leadershipeveryone.org
X-WR-CALDESC:Events for Leadership Everyone
REFRESH-INTERVAL;VALUE=DURATION:PT1H
X-Robots-Tag:noindex
X-PUBLISHED-TTL:PT1H
BEGIN:VTIMEZONE
TZID:America/Indiana/Tell_City
BEGIN:DAYLIGHT
TZOFFSETFROM:-0600
TZOFFSETTO:-0500
TZNAME:CDT
DTSTART:20180311T080000
END:DAYLIGHT
BEGIN:STANDARD
TZOFFSETFROM:-0500
TZOFFSETTO:-0600
TZNAME:CST
DTSTART:20181104T070000
END:STANDARD
BEGIN:DAYLIGHT
TZOFFSETFROM:-0600
TZOFFSETTO:-0500
TZNAME:CDT
DTSTART:20190310T080000
END:DAYLIGHT
BEGIN:STANDARD
TZOFFSETFROM:-0500
TZOFFSETTO:-0600
TZNAME:CST
DTSTART:20191103T070000
END:STANDARD
BEGIN:DAYLIGHT
TZOFFSETFROM:-0600
TZOFFSETTO:-0500
TZNAME:CDT
DTSTART:20200308T080000
END:DAYLIGHT
BEGIN:STANDARD
TZOFFSETFROM:-0500
TZOFFSETTO:-0600
TZNAME:CST
DTSTART:20201101T070000
END:STANDARD
END:VTIMEZONE
BEGIN:VEVENT
DTSTART;TZID=America/Indiana/Tell_City:20190611T080000
DTEND;TZID=America/Indiana/Tell_City:20190613T170000
DTSTAMP:20260420T095649
CREATED:20180712T153519Z
LAST-MODIFIED:20190510T184512Z
UID:2527-1560240000-1560445200@leadershipeveryone.org
SUMMARY:Community Leadership Program
DESCRIPTION:Participants in the Community Leadership Program learn that they can be leaders who make a difference. And they do.  \nLeadership Everyone’s partnership with the Indiana Leadership Initiative connects us with today’s top leadership experts. LE programming is researched\, tested\, evaluated\, and refined. It continues to be emulated by leadership programs around the country because it is at the forefront\, consistent with best practices\, and—as our graduates report—it makes a difference.  Learn more…
URL:https://leadershipeveryone.org/event/community-leadership-program-15/
LOCATION:The Barn Abbey\, 504 North St\, New Harmony\, IN\, 47631\, United States
CATEGORIES:Leadership Everyone
END:VEVENT
END:VCALENDAR