BEGIN:VCALENDAR
VERSION:2.0
PRODID:-//Leadership Everyone - ECPv6.15.20//NONSGML v1.0//EN
CALSCALE:GREGORIAN
METHOD:PUBLISH
X-WR-CALNAME:Leadership Everyone
X-ORIGINAL-URL:https://leadershipeveryone.org
X-WR-CALDESC:Events for Leadership Everyone
REFRESH-INTERVAL;VALUE=DURATION:PT1H
X-Robots-Tag:noindex
X-PUBLISHED-TTL:PT1H
BEGIN:VTIMEZONE
TZID:America/Indiana/Tell_City
BEGIN:DAYLIGHT
TZOFFSETFROM:-0600
TZOFFSETTO:-0500
TZNAME:CDT
DTSTART:20180311T080000
END:DAYLIGHT
BEGIN:STANDARD
TZOFFSETFROM:-0500
TZOFFSETTO:-0600
TZNAME:CST
DTSTART:20181104T070000
END:STANDARD
BEGIN:DAYLIGHT
TZOFFSETFROM:-0600
TZOFFSETTO:-0500
TZNAME:CDT
DTSTART:20190310T080000
END:DAYLIGHT
BEGIN:STANDARD
TZOFFSETFROM:-0500
TZOFFSETTO:-0600
TZNAME:CST
DTSTART:20191103T070000
END:STANDARD
BEGIN:DAYLIGHT
TZOFFSETFROM:-0600
TZOFFSETTO:-0500
TZNAME:CDT
DTSTART:20200308T080000
END:DAYLIGHT
BEGIN:STANDARD
TZOFFSETFROM:-0500
TZOFFSETTO:-0600
TZNAME:CST
DTSTART:20201101T070000
END:STANDARD
END:VTIMEZONE
BEGIN:VEVENT
DTSTART;TZID=America/Indiana/Tell_City:20190508T160000
DTEND;TZID=America/Indiana/Tell_City:20190508T180000
DTSTAMP:20260420T132046
CREATED:20181130T204404Z
LAST-MODIFIED:20190327T152928Z
UID:2861-1557331200-1557338400@leadershipeveryone.org
SUMMARY:Annual Meeting
DESCRIPTION:Leadership Everyone hosts The Annual to celebrate and honor each and every one of the year’s accomplishments. With more than 200 LE alumni and supporters in attendance\, this celebration provides Leadership Everyone with an opportunity to highlight those who help make this organization wonderful and impactful. The Annual allows LE members to witness the success of the year’s Community Leadership Programs\, VOICE\, and LE’s numerous projects in addition to honoring outstanding community leaders. \nThe 2018 recipients of the Alumnus of the Year award were Alex Schmitt and Marilyn Brenton. \nBe a part of the celebration.\nJoin Leadership Everyone at this year’s Annual Meeting to celebrate the past year’s successes\, learn about upcoming projects\, and welcome new LE alumni. RSVP today to secure your spot. \n  \n 
URL:https://leadershipeveryone.org/event/annual-meeting/
LOCATION:Tropicana Executive Conference Center\, 421 NW Riverside Dr\, Evansville\, IN\, 47708\, United States
CATEGORIES:Leadership Everyone
END:VEVENT
END:VCALENDAR